BEGIN:VCALENDAR
VERSION:2.0
PRODID:-//Buy Fresh Buy Local Cape Cod - ECPv6.15.20//NONSGML v1.0//EN
CALSCALE:GREGORIAN
METHOD:PUBLISH
X-WR-CALNAME:Buy Fresh Buy Local Cape Cod
X-ORIGINAL-URL:https://www.buyfreshbuylocalcapecod.org
X-WR-CALDESC:Events for Buy Fresh Buy Local Cape Cod
REFRESH-INTERVAL;VALUE=DURATION:PT1H
X-Robots-Tag:noindex
X-PUBLISHED-TTL:PT1H
BEGIN:VTIMEZONE
TZID:America/New_York
BEGIN:DAYLIGHT
TZOFFSETFROM:-0500
TZOFFSETTO:-0400
TZNAME:EDT
DTSTART:20250309T070000
END:DAYLIGHT
BEGIN:STANDARD
TZOFFSETFROM:-0400
TZOFFSETTO:-0500
TZNAME:EST
DTSTART:20251102T060000
END:STANDARD
BEGIN:DAYLIGHT
TZOFFSETFROM:-0500
TZOFFSETTO:-0400
TZNAME:EDT
DTSTART:20260308T070000
END:DAYLIGHT
BEGIN:STANDARD
TZOFFSETFROM:-0400
TZOFFSETTO:-0500
TZNAME:EST
DTSTART:20261101T060000
END:STANDARD
BEGIN:DAYLIGHT
TZOFFSETFROM:-0500
TZOFFSETTO:-0400
TZNAME:EDT
DTSTART:20270314T070000
END:DAYLIGHT
BEGIN:STANDARD
TZOFFSETFROM:-0400
TZOFFSETTO:-0500
TZNAME:EST
DTSTART:20271107T060000
END:STANDARD
END:VTIMEZONE
BEGIN:VEVENT
DTSTART;VALUE=DATE:20260510
DTEND;VALUE=DATE:20260511
DTSTAMP:20260425T165315
CREATED:20260424T224332Z
LAST-MODIFIED:20260424T224332Z
UID:1867-1778371200-1778457599@www.buyfreshbuylocalcapecod.org
SUMMARY:DUE DATE: FARMER PROJECT FUNDING
DESCRIPTION:Apply at: https://forms.gle/AWY5yUmCbxpwd3os6
URL:https://www.buyfreshbuylocalcapecod.org/event/due-date-farmer-project-funding/
CATEGORIES:Due date
END:VEVENT
BEGIN:VEVENT
DTSTART;TZID=America/New_York:20260522T150000
DTEND;TZID=America/New_York:20260522T160000
DTSTAMP:20260425T165315
CREATED:20260424T223447Z
LAST-MODIFIED:20260424T230442Z
UID:1859-1779462000-1779465600@www.buyfreshbuylocalcapecod.org
SUMMARY:Farming Insects: For Livestock and Human Consumption
DESCRIPTION:People around the world have been eating insects for thousands of years. They’re nutritious\, plentiful\, and can be raised sustainably with fewer resources than most animal protein. Join Escher Cattle from Cape Cod Cooperative Extension to learn about edible insects in culture and farming\, and sample a better kind of bug bite! \nNOTE: People with shellfish allergies should not eat insects\, as it is possible for edible insects to trigger an allergic reaction. \n 
URL:https://www.buyfreshbuylocalcapecod.org/event/farming-insects-for-livestock-and-human-consumption/
LOCATION:Eldredge Public Library\, 564 Main Street\, Chatham\, MA\, 02633\, United States
CATEGORIES:free BFBLCC workshop
END:VEVENT
BEGIN:VEVENT
DTSTART;TZID=America/New_York:20260527T170000
DTEND;TZID=America/New_York:20260527T180000
DTSTAMP:20260425T165315
CREATED:20260424T230317Z
LAST-MODIFIED:20260424T230317Z
UID:1875-1779901200-1779904800@www.buyfreshbuylocalcapecod.org
SUMMARY:Casual Dinner at Cape Cod Organic Farm
DESCRIPTION:A free casual dinner and chat night on Wednesday\, May 27 from 5pm – 6pm at Cape Cod Organic Farm on Route 6A/Main Street in Barnstable. Address is 3675 Main Street\, Barnstable\, MA. We’ll have sandwiches\, pasta\, salads\, lemonade\, ice tea\, water\, cookies\, and other snacks. This is part of our monthly farmer and food producer gatherings. We are meeting every month at different locations across Cape Cod. These monthly events are made possible by MA Dept. of Agricultural Resources (MDAR) as part of their MassGrown Farmer Wellness Program. All monthly events are free and open to all Cape Cod food business owners and farmers (land and sea). Some months we’re just having casual get-togethers and meals like in May\, other months we have more formal dinners at restaurants\, bowling nights for the family\, yoga sessions\, cooking demos\, and other outdoor adventures — but it’s always free and we encourage you to come. Please RSVP whenever possible or required so that we know you’re coming. You don’t need to attend every month but you’re welcome to join as many monthly gatherings as you can join!
URL:https://www.buyfreshbuylocalcapecod.org/event/casual-dinner-at-cape-cod-organic-farm/
CATEGORIES:Free farmer wellness event
END:VEVENT
BEGIN:VEVENT
DTSTART;TZID=America/New_York:20260626T180000
DTEND;TZID=America/New_York:20260626T200000
DTSTAMP:20260425T165315
CREATED:20260424T225102Z
LAST-MODIFIED:20260424T225102Z
UID:1870-1782496800-1782504000@www.buyfreshbuylocalcapecod.org
SUMMARY:Farmer Friends and Family Bowl Night
DESCRIPTION:
URL:https://www.buyfreshbuylocalcapecod.org/event/farmer-friends-and-family-bowl-night/
LOCATION:Ryan’s Ten Pin Eatery and Arcade\, 769 Iyannough Rd.\, Hyannis\, MA\, 02601\, United States
CATEGORIES:Free farmer wellness event
END:VEVENT
END:VCALENDAR